BEGIN:VCALENDAR
VERSION:2.0
PRODID:SchoolNow
CALSCALE:GREGORIAN
BEGIN:VEVENT
UID:8520298c-b197-11eb-8ad6-0eaf4aa89b4d
DTSTAMP:20210510T135629Z
SUMMARY:STUDENTS LAST DAY
URL;VALUE=URI:https://www.lpssonline.com/schools/paul-breaux/calendar/25967
 81/students-last-day
DTSTART;VALUE=DATE:20210528
DTEND;VALUE=DATE:20210529
END:VEVENT
END:VCALENDAR
