BEGIN:VCALENDAR
VERSION:2.0
PRODID:SchoolNow
CALSCALE:GREGORIAN
BEGIN:VEVENT
UID:8520402a-b197-11eb-8a40-0eaf4aa89b4d
DTSTAMP:20210510T135629Z
SUMMARY:LEAP- 6/8 SOCIAL STUDIES SESSION 3  65 MINUTES
URL;VALUE=URI:https://www.lpssonline.com/schools/paul-breaux/calendar/25967
 82/leap-6-8-social-studies-session-3-65-minutes
DTSTART:20210520T152500Z
DTEND:20210520T163000Z
END:VEVENT
END:VCALENDAR
