BEGIN:VCALENDAR
VERSION:2.0
PRODID:SchoolNow
CALSCALE:GREGORIAN
BEGIN:VEVENT
UID:852053da-b197-11eb-82e8-0eaf4aa89b4d
DTSTAMP:20210510T135629Z
SUMMARY:LEAP- 6/8 SCIENCE SESSION 3  70 MINUTES
URL;VALUE=URI:https://www.lpssonline.com/schools/paul-breaux/calendar/25967
 83/leap-6-8-science-session-3-70-minutes
DTSTART:20210520T140000Z
DTEND:20210520T151000Z
END:VEVENT
END:VCALENDAR
