BEGIN:VCALENDAR
VERSION:2.0
PRODID:SchoolNow
CALSCALE:GREGORIAN
BEGIN:VEVENT
UID:85208ff8-b197-11eb-8d50-0eaf4aa89b4d
DTSTAMP:20210510T135629Z
SUMMARY:LPSS GRADUATION
URL;VALUE=URI:https://www.lpssonline.com/schools/paul-breaux/calendar/25967
 86/lpss-graduation
DTSTART;VALUE=DATE:20210521
DTEND;VALUE=DATE:20210522
END:VEVENT
END:VCALENDAR
