BEGIN:VCALENDAR
VERSION:2.0
PRODID:SchoolNow
CALSCALE:GREGORIAN
BEGIN:VEVENT
UID:8520b6fe-b197-11eb-896d-0eaf4aa89b4d
DTSTAMP:20210510T135629Z
SUMMARY:LEAP- 6/8  SOCIAL STUDIES SESSION 2 WRITING 65 MINUTES
URL;VALUE=URI:https://www.lpssonline.com/schools/paul-breaux/calendar/25967
 88/leap-6-8-social-studies-session-2-writing-65-minutes
DTSTART:20210519T154500Z
DTEND:20210519T165000Z
END:VEVENT
END:VCALENDAR
