BEGIN:VCALENDAR
VERSION:2.0
PRODID:SchoolNow
CALSCALE:GREGORIAN
BEGIN:VEVENT
UID:8520cc34-b197-11eb-87ed-0eaf4aa89b4d
DTSTAMP:20210510T135629Z
SUMMARY:LEAP- 6/8 SCIENCE SESSION 2  90 MINUTES
URL;VALUE=URI:https://www.lpssonline.com/schools/paul-breaux/calendar/25967
 89/leap-6-8-science-session-2-90-minutes
DTSTART:20210519T140000Z
DTEND:20210519T153000Z
END:VEVENT
END:VCALENDAR
