BEGIN:VCALENDAR
VERSION:2.0
PRODID:SchoolNow
CALSCALE:GREGORIAN
BEGIN:VEVENT
UID:8520df9e-b197-11eb-a873-0eaf4aa89b4d
DTSTAMP:20210510T135629Z
SUMMARY:LEAP- 6/8 SOCIAL STUDIES SESSION 1  85 MINUTES
URL;VALUE=URI:https://www.lpssonline.com/schools/paul-breaux/calendar/25967
 90/leap-6-8-social-studies-session-1-85-minutes
DTSTART:20210518T154500Z
DTEND:20210518T171000Z
END:VEVENT
END:VCALENDAR
