BEGIN:VCALENDAR
VERSION:2.0
PRODID:SchoolNow
CALSCALE:GREGORIAN
BEGIN:VEVENT
UID:8520f2d6-b197-11eb-8bb7-0eaf4aa89b4d
DTSTAMP:20210510T135629Z
SUMMARY:LEAP- 6/8 SCIENCE SESSION 1  90 MINUTES
URL;VALUE=URI:https://www.lpssonline.com/schools/paul-breaux/calendar/25967
 91/leap-6-8-science-session-1-90-minutes
DTSTART:20210518T140000Z
DTEND:20210518T153000Z
END:VEVENT
END:VCALENDAR
