BEGIN:VCALENDAR
VERSION:2.0
PRODID:SchoolNow
CALSCALE:GREGORIAN
BEGIN:VEVENT
UID:85210668-b197-11eb-ab34-0eaf4aa89b4d
DTSTAMP:20210510T135629Z
SUMMARY:LEAP- 6/8 MATH SESSION 3  90 MINUTES
URL;VALUE=URI:https://www.lpssonline.com/schools/paul-breaux/calendar/25967
 92/leap-6-8-math-session-3-90-minutes
DTSTART:20210517T153500Z
DTEND:20210517T170500Z
END:VEVENT
END:VCALENDAR
