BEGIN:VCALENDAR
VERSION:2.0
PRODID:SchoolNow
CALSCALE:GREGORIAN
BEGIN:VEVENT
UID:85211964-b197-11eb-b1e6-0eaf4aa89b4d
DTSTAMP:20210510T135629Z
SUMMARY:LEAP-6/8 ELA SESSION 3  80 MINUTES
URL;VALUE=URI:https://www.lpssonline.com/schools/paul-breaux/calendar/25967
 93/leap-6-8-ela-session-3-80-minutes
DTSTART:20210517T140000Z
DTEND:20210517T152000Z
END:VEVENT
END:VCALENDAR
