BEGIN:VCALENDAR
VERSION:2.0
PRODID:SchoolNow
CALSCALE:GREGORIAN
BEGIN:VEVENT
UID:85212daa-b197-11eb-a7ff-0eaf4aa89b4d
DTSTAMP:20210510T135629Z
SUMMARY:LEAP-6/8 MATH SESSION 2 90 MINUTES
URL;VALUE=URI:https://www.lpssonline.com/schools/paul-breaux/calendar/25967
 94/leap-6-8-math-session-2-90-minutes
DTSTART:20210514T154500Z
DTEND:20210514T171500Z
END:VEVENT
END:VCALENDAR
