BEGIN:VCALENDAR
VERSION:2.0
PRODID:SchoolNow
CALSCALE:GREGORIAN
BEGIN:VEVENT
UID:852140e2-b197-11eb-80d3-0eaf4aa89b4d
DTSTAMP:20210510T135629Z
SUMMARY:LEAP- 6/8 ELA SESSION 2 WRITING  90 MINUTES
URL;VALUE=URI:https://www.lpssonline.com/schools/paul-breaux/calendar/25967
 95/leap-6-8-ela-session-2-writing-90-minutes
DTSTART:20210514T140000Z
DTEND:20210514T153000Z
END:VEVENT
END:VCALENDAR
