BEGIN:VCALENDAR
VERSION:2.0
PRODID:SchoolNow
CALSCALE:GREGORIAN
BEGIN:VEVENT
UID:8521541a-b197-11eb-a719-0eaf4aa89b4d
DTSTAMP:20210510T135629Z
SUMMARY:LEAP-6/8 MATH SESSION 1  60 MINUTES
URL;VALUE=URI:https://www.lpssonline.com/schools/paul-breaux/calendar/25967
 96/leap-6-8-math-session-1-60-minutes
DTSTART:20210513T154500Z
DTEND:20210513T164500Z
END:VEVENT
END:VCALENDAR
