BEGIN:VCALENDAR
VERSION:2.0
PRODID:SchoolNow
CALSCALE:GREGORIAN
BEGIN:VEVENT
UID:85216dd8-b197-11eb-9c5a-0eaf4aa89b4d
DTSTAMP:20210510T135629Z
SUMMARY:LEAP- 6/8 ELA SESSION 1 WRITING 90 MINUTES
URL;VALUE=URI:https://www.lpssonline.com/schools/paul-breaux/calendar/25967
 97/leap-6-8-ela-session-1-writing-90-minutes
DTSTART:20210513T140000Z
DTEND:20210513T153000Z
END:VEVENT
END:VCALENDAR
