BEGIN:VCALENDAR
VERSION:2.0
PRODID:SchoolNow
CALSCALE:GREGORIAN
BEGIN:VEVENT
UID:852181a6-b197-11eb-98b0-0eaf4aa89b4d
DTSTAMP:20210510T135629Z
SUMMARY:LEAP- 7TH SOCIAL STUDIES SESSION 3  65 MINUTES
URL;VALUE=URI:https://www.lpssonline.com/schools/paul-breaux/calendar/25967
 98/leap-7th-social-studies-session-3-65-minutes
DTSTART:20210512T152500Z
DTEND:20210512T163000Z
END:VEVENT
END:VCALENDAR
