BEGIN:VCALENDAR
VERSION:2.0
PRODID:SchoolNow
CALSCALE:GREGORIAN
BEGIN:VEVENT
UID:8521a7ee-b197-11eb-aa12-0eaf4aa89b4d
DTSTAMP:20210510T135629Z
SUMMARY:LEAP- 7TH SOCIAL STUDIES SESSION 2  65 MINUTES
URL;VALUE=URI:https://www.lpssonline.com/schools/paul-breaux/calendar/25968
 00/leap-7th-social-studies-session-2-65-minutes
DTSTART:20210511T154500Z
DTEND:20210511T165000Z
END:VEVENT
END:VCALENDAR
