BEGIN:VCALENDAR
VERSION:2.0
PRODID:SchoolNow
CALSCALE:GREGORIAN
BEGIN:VEVENT
UID:8521bb62-b197-11eb-9b85-0eaf4aa89b4d
DTSTAMP:20210510T135629Z
SUMMARY:LEAP- 7TH SCIENCE SESSION 2  90 MINUTES
URL;VALUE=URI:https://www.lpssonline.com/schools/paul-breaux/calendar/25968
 01/leap-7th-science-session-2-90-minutes
DTSTART:20210511T140000Z
DTEND:20210511T153000Z
END:VEVENT
END:VCALENDAR
