BEGIN:VCALENDAR
VERSION:2.0
PRODID:SchoolNow
CALSCALE:GREGORIAN
BEGIN:VEVENT
UID:8521d020-b197-11eb-b08d-0eaf4aa89b4d
DTSTAMP:20210510T135629Z
SUMMARY:High School LEAP Testing (Algebra 1) in Library
URL;VALUE=URI:https://www.lpssonline.com/schools/paul-breaux/calendar/25968
 02/high-school-leap-testing-algebra-1-in-library
DTSTART:20210511T130000Z
DTEND:20210511T191500Z
END:VEVENT
END:VCALENDAR
