BEGIN:VCALENDAR
VERSION:2.0
PRODID:SchoolNow
CALSCALE:GREGORIAN
BEGIN:VEVENT
UID:8521e376-b197-11eb-8443-0eaf4aa89b4d
DTSTAMP:20210510T135629Z
SUMMARY:LEAP- 7TH SOCIAL STUDIES SESSION 1  85 MINUTES
URL;VALUE=URI:https://www.lpssonline.com/schools/paul-breaux/calendar/25968
 03/leap-7th-social-studies-session-1-85-minutes
DTSTART:20210510T154500Z
DTEND:20210510T171000Z
END:VEVENT
END:VCALENDAR
