BEGIN:VCALENDAR
VERSION:2.0
PRODID:SchoolNow
CALSCALE:GREGORIAN
BEGIN:VEVENT
UID:8521f6b8-b197-11eb-887f-0eaf4aa89b4d
DTSTAMP:20210510T135629Z
SUMMARY:LEAP- 7TH SCIENCE SESSION 1  90 MINUTES
URL;VALUE=URI:https://www.lpssonline.com/schools/paul-breaux/calendar/25968
 04/leap-7th-science-session-1-90-minutes
DTSTART:20210510T140000Z
DTEND:20210510T153000Z
END:VEVENT
END:VCALENDAR
