BEGIN:VCALENDAR
VERSION:2.0
PRODID:SchoolNow
CALSCALE:GREGORIAN
BEGIN:VEVENT
UID:85221e0e-b197-11eb-828b-0eaf4aa89b4d
DTSTAMP:20210510T135629Z
SUMMARY:LEAP- 7TH MATH SESSION 3  90 MINUTES
URL;VALUE=URI:https://www.lpssonline.com/schools/paul-breaux/calendar/25968
 06/leap-7th-math-session-3-90-minutes
DTSTART:20210507T153500Z
DTEND:20210507T170500Z
END:VEVENT
END:VCALENDAR
