BEGIN:VCALENDAR
VERSION:2.0
PRODID:SchoolNow
CALSCALE:GREGORIAN
BEGIN:VEVENT
UID:8522311e-b197-11eb-90a0-0eaf4aa89b4d
DTSTAMP:20210510T135629Z
SUMMARY:LEAP-7TH ELA SESSION 3  80 MINUTES
URL;VALUE=URI:https://www.lpssonline.com/schools/paul-breaux/calendar/25968
 07/leap-7th-ela-session-3-80-minutes
DTSTART:20210507T140000Z
DTEND:20210507T152000Z
END:VEVENT
END:VCALENDAR
