BEGIN:VCALENDAR
VERSION:2.0
PRODID:SchoolNow
CALSCALE:GREGORIAN
BEGIN:VEVENT
UID:85224424-b197-11eb-a629-0eaf4aa89b4d
DTSTAMP:20210510T135629Z
SUMMARY:LEAP-7TH MATH SESSION 2 90 MINUTES
URL;VALUE=URI:https://www.lpssonline.com/schools/paul-breaux/calendar/25968
 08/leap-7th-math-session-2-90-minutes
DTSTART:20210506T154500Z
DTEND:20210506T171500Z
END:VEVENT
END:VCALENDAR
