BEGIN:VCALENDAR
VERSION:2.0
PRODID:SchoolNow
CALSCALE:GREGORIAN
BEGIN:VEVENT
UID:85226f9e-b197-11eb-a5c8-0eaf4aa89b4d
DTSTAMP:20210510T135629Z
SUMMARY:LEAP-7TH MATH SESSION 1  60 MINUTES
URL;VALUE=URI:https://www.lpssonline.com/schools/paul-breaux/calendar/25968
 10/leap-7th-math-session-1-60-minutes
DTSTART:20210505T154500Z
DTEND:20210505T164500Z
END:VEVENT
END:VCALENDAR
