BEGIN:VCALENDAR
VERSION:2.0
PRODID:SchoolNow
CALSCALE:GREGORIAN
BEGIN:VEVENT
UID:8522856a-b197-11eb-a8ea-0eaf4aa89b4d
DTSTAMP:20210510T135629Z
SUMMARY:LEAP- 7TH ELA SESSION 1 WRITING 90 MINUTES
URL;VALUE=URI:https://www.lpssonline.com/schools/paul-breaux/calendar/25968
 11/leap-7th-ela-session-1-writing-90-minutes
DTSTART:20210505T140000Z
DTEND:20210505T153000Z
END:VEVENT
END:VCALENDAR
