BEGIN:VCALENDAR
VERSION:2.0
PRODID:SchoolNow
CALSCALE:GREGORIAN
BEGIN:VEVENT
UID:852298b6-b197-11eb-8c99-0eaf4aa89b4d
DTSTAMP:20210510T135629Z
SUMMARY:High School LEAP Testing (Algebra 1/Geometry) in Library
URL;VALUE=URI:https://www.lpssonline.com/schools/paul-breaux/calendar/25968
 12/high-school-leap-testing-algebra-1-geometry-in-library
DTSTART:20210503T130000Z
DTEND:20210503T191500Z
END:VEVENT
END:VCALENDAR
