BEGIN:VCALENDAR
VERSION:2.0
PRODID:SchoolNow
CALSCALE:GREGORIAN
BEGIN:VEVENT
UID:8522aefa-b197-11eb-afee-0eaf4aa89b4d
DTSTAMP:20210510T135629Z
SUMMARY:High School LEAP Testing (English I) in Library
URL;VALUE=URI:https://www.lpssonline.com/schools/paul-breaux/calendar/25968
 13/high-school-leap-testing-english-i-in-library
DTSTART:20210504T130000Z
DTEND:20210504T191500Z
END:VEVENT
END:VCALENDAR
