BEGIN:VCALENDAR
VERSION:2.0
PRODID:SchoolNow
CALSCALE:GREGORIAN
BEGIN:VEVENT
UID:7eb45f46-63d2-11ef-b2e6-0affe1b47309
DTSTAMP:20260423T154543Z
SUMMARY:Happy Birthday Coach Fontenot
URL;VALUE=URI:https://www.lpssonline.com/schools/southside/calendar/6463066
 /happy-birthday-coach-fontenot
DTSTART;VALUE=DATE:20260424
DTEND;VALUE=DATE:20260425
END:VEVENT
END:VCALENDAR
