BEGIN:VCALENDAR
VERSION:2.0
PRODID:SchoolNow
CALSCALE:GREGORIAN
BEGIN:VEVENT
UID:83f74240-d1f8-11ef-897b-02a966d3e941
DTSTAMP:20260423T154543Z
SUMMARY:Election Day
URL;VALUE=URI:https://www.lpssonline.com/schools/southside/calendar/7310772
 /election-day
DTSTART;VALUE=DATE:20260418
DTEND;VALUE=DATE:20260419
END:VEVENT
END:VCALENDAR
