BEGIN:VCALENDAR
VERSION:2.0
PRODID:SchoolNow
CALSCALE:GREGORIAN
BEGIN:VEVENT
UID:83f7434e-d1f8-11ef-a1e8-02a966d3e941
DTSTAMP:20260423T154543Z
SUMMARY:Election Day
URL;VALUE=URI:https://www.lpssonline.com/schools/southside/calendar/7310773
 /election-day
DTSTART;VALUE=DATE:20260530
DTEND;VALUE=DATE:20260531
END:VEVENT
END:VCALENDAR
