BEGIN:VCALENDAR
VERSION:2.0
PRODID:SchoolNow
CALSCALE:GREGORIAN
BEGIN:VEVENT
UID:de3559da-2f64-11f0-9d43-0a58a9feac02
DTSTAMP:20260423T154543Z
SUMMARY:Prom
URL;VALUE=URI:https://www.lpssonline.com/schools/southside/calendar/8120088
 /prom
DTSTART:20260426T000000Z
DTEND:20260426T030000Z
END:VEVENT
END:VCALENDAR
