BEGIN:VCALENDAR
VERSION:2.0
PRODID:SchoolNow
CALSCALE:GREGORIAN
BEGIN:VEVENT
UID:5c03b6a8-6bf2-11f0-85c5-0a58a9feac02
DTSTAMP:20260423T154543Z
SUMMARY:Progress Reports
URL;VALUE=URI:https://www.lpssonline.com/schools/southside/calendar/8452923
 /progress-reports
DTSTART;VALUE=DATE:20260205
DTEND;VALUE=DATE:20260206
END:VEVENT
END:VCALENDAR
