BEGIN:VCALENDAR
VERSION:2.0
PRODID:SchoolNow
CALSCALE:GREGORIAN
BEGIN:VEVENT
UID:5c03b874-6bf2-11f0-940c-0a58a9feac02
DTSTAMP:20260423T154543Z
SUMMARY:End of 3rd 9 Weeks
URL;VALUE=URI:https://www.lpssonline.com/schools/southside/calendar/8452925
 /end-of-3rd-9-weeks
DTSTART;VALUE=DATE:20260313
DTEND;VALUE=DATE:20260314
END:VEVENT
END:VCALENDAR
