BEGIN:VCALENDAR
VERSION:2.0
PRODID:SchoolNow
CALSCALE:GREGORIAN
BEGIN:VEVENT
UID:5c03ba40-6bf2-11f0-90bb-0a58a9feac02
DTSTAMP:20260423T154543Z
SUMMARY:Good Friday-No School
URL;VALUE=URI:https://www.lpssonline.com/schools/southside/calendar/8452927
 /good-friday-no-school
DTSTART;VALUE=DATE:20260403
DTEND;VALUE=DATE:20260404
END:VEVENT
END:VCALENDAR
