BEGIN:VCALENDAR
VERSION:2.0
PRODID:SchoolNow
CALSCALE:GREGORIAN
BEGIN:VEVENT
UID:5c03bc0c-6bf2-11f0-a8d1-0a58a9feac02
DTSTAMP:20260423T154543Z
SUMMARY:Students Last Day
URL;VALUE=URI:https://www.lpssonline.com/schools/southside/calendar/8452929
 /students-last-day
DTSTART;VALUE=DATE:20260521
DTEND;VALUE=DATE:20260522
END:VEVENT
END:VCALENDAR
