BEGIN:VCALENDAR
VERSION:2.0
PRODID:SchoolNow
CALSCALE:GREGORIAN
BEGIN:VEVENT
UID:5c03bdec-6bf2-11f0-8a02-0a58a9feac02
DTSTAMP:20260423T154543Z
SUMMARY:School In-Service No School
URL;VALUE=URI:https://www.lpssonline.com/schools/southside/calendar/8452931
 /school-in-service-no-school
DTSTART:20260105T130000Z
DTEND:20260105T203000Z
END:VEVENT
END:VCALENDAR
