BEGIN:VCALENDAR
VERSION:2.0
PRODID:SchoolNow
CALSCALE:GREGORIAN
BEGIN:VEVENT
UID:5c03befa-6bf2-11f0-8fd0-0a58a9feac02
DTSTAMP:20260420T084042Z
SUMMARY:Progress Reports
URL;VALUE=URI:https://www.lpssonline.com/schools/southside/calendar/8452932
 /progress-reports
DTSTART;VALUE=DATE:20260422
DTEND;VALUE=DATE:20260423
END:VEVENT
END:VCALENDAR
