BEGIN:VCALENDAR
VERSION:2.0
PRODID:SchoolNow
CALSCALE:GREGORIAN
BEGIN:VEVENT
UID:5c03bfd6-6bf2-11f0-a07b-0a58a9feac02
DTSTAMP:20260423T154543Z
SUMMARY:Report Cards
URL;VALUE=URI:https://www.lpssonline.com/schools/southside/calendar/8452933
 /report-cards
DTSTART;VALUE=DATE:20260522
DTEND;VALUE=DATE:20260523
END:VEVENT
END:VCALENDAR
