BEGIN:VCALENDAR
VERSION:2.0
PRODID:SchoolNow
CALSCALE:GREGORIAN
BEGIN:VEVENT
UID:5c03c0bc-6bf2-11f0-a561-0a58a9feac02
DTSTAMP:20260423T154543Z
SUMMARY:Memorial Day
URL;VALUE=URI:https://www.lpssonline.com/schools/southside/calendar/8452934
 /memorial-day
DTSTART:20260525T173000Z
DTEND:20260525T183000Z
END:VEVENT
END:VCALENDAR
