BEGIN:VCALENDAR
VERSION:2.0
PRODID:SchoolNow
CALSCALE:GREGORIAN
BEGIN:VEVENT
UID:01dcd844-72eb-11f0-bb46-0a58a9feac02
DTSTAMP:20260423T154543Z
SUMMARY:End of Year Banquet-FFA
URL;VALUE=URI:https://www.lpssonline.com/schools/southside/calendar/8476710
 /end-of-year-banquet-ffa
DTSTART:20260507T230000Z
DTEND:20260508T010000Z
END:VEVENT
END:VCALENDAR
