BEGIN:VCALENDAR
VERSION:2.0
PRODID:SchoolNow
CALSCALE:GREGORIAN
BEGIN:VEVENT
UID:01dcdcd6-72eb-11f0-856e-0a58a9feac02
DTSTAMP:20260423T154543Z
SUMMARY:Spring Musical-Little Shop of Horrors
LOCATION:F101\, F102
URL;VALUE=URI:https://www.lpssonline.com/schools/southside/calendar/8476712
 /spring-musical-little-shop-of-horrors
DTSTART:20260418T000000Z
DTEND:20260418T030000Z
END:VEVENT
END:VCALENDAR
