BEGIN:VCALENDAR
VERSION:2.0
PRODID:SchoolNow
CALSCALE:GREGORIAN
BEGIN:VEVENT
UID:01dcdfc4-72eb-11f0-bc64-0a58a9feac02
DTSTAMP:20260423T154543Z
SUMMARY:Spring Musical-Little Shop of Horrors
LOCATION:F101\, F102
URL;VALUE=URI:https://www.lpssonline.com/schools/southside/calendar/8476715
 /spring-musical-little-shop-of-horrors
DTSTART:20260419T190000Z
DTEND:20260419T220000Z
END:VEVENT
END:VCALENDAR
