BEGIN:VCALENDAR
VERSION:2.0
PRODID:SchoolNow
CALSCALE:GREGORIAN
BEGIN:VEVENT
UID:bc876690-784b-11f0-8f9d-0a58a9feac02
DTSTAMP:20260423T154543Z
SUMMARY:Literary Rally
URL;VALUE=URI:https://www.lpssonline.com/schools/southside/calendar/8504390
 /literary-rally
DTSTART;VALUE=DATE:20260314
DTEND;VALUE=DATE:20260315
END:VEVENT
END:VCALENDAR
