BEGIN:VCALENDAR
VERSION:2.0
PRODID:SchoolNow
CALSCALE:GREGORIAN
BEGIN:VEVENT
UID:0521bf4c-9a28-11f0-9476-0a58a9feac02
DTSTAMP:20260423T154543Z
SUMMARY:Bus Evacuation Drill
URL;VALUE=URI:https://www.lpssonline.com/schools/southside/calendar/8663192
 /bus-evacuation-drill
DTSTART:20260224T124500Z
DTEND:20260224T130000Z
END:VEVENT
END:VCALENDAR
