BEGIN:VCALENDAR
VERSION:2.0
PRODID:SchoolNow
CALSCALE:GREGORIAN
BEGIN:VEVENT
UID:9e96d8f0-bfe5-11f0-bf6f-0affe59169fb
DTSTAMP:20260423T154543Z
SUMMARY:SHS College and Career Expo 2026
URL;VALUE=URI:https://www.lpssonline.com/schools/southside/calendar/8791179
 /shs-college-and-career-expo-2026
DTSTART:20260319T223000Z
DTEND:20260320T010000Z
END:VEVENT
END:VCALENDAR
