BEGIN:VCALENDAR
VERSION:2.0
PRODID:SchoolNow
CALSCALE:GREGORIAN
BEGIN:VEVENT
UID:69a1f936-c3e1-11f0-89fe-0affd0208837
DTSTAMP:20260423T154543Z
SUMMARY:ACT Testing
URL;VALUE=URI:https://www.lpssonline.com/schools/southside/calendar/8799932
 /act-testing
DTSTART;VALUE=DATE:20260312
DTEND;VALUE=DATE:20260313
END:VEVENT
END:VCALENDAR
