BEGIN:VCALENDAR
VERSION:2.0
PRODID:SchoolNow
CALSCALE:GREGORIAN
BEGIN:VEVENT
UID:6548717a-c414-11f0-aa36-0ea11a231c69
DTSTAMP:20260423T154543Z
SUMMARY:LHSSL Tournament of Champions-Speech & Debate
URL;VALUE=URI:https://www.lpssonline.com/schools/southside/calendar/8800607
 /lhssl-tournament-of-champions-speech-debate
DTSTART:20260327T200000Z
DTEND:20260328T030000Z
END:VEVENT
END:VCALENDAR
