BEGIN:VCALENDAR
VERSION:2.0
PRODID:SchoolNow
CALSCALE:GREGORIAN
BEGIN:VEVENT
UID:6579e6d8-c414-11f0-9657-0ea11a231c69
DTSTAMP:20260423T154543Z
SUMMARY:LHSSL Tournament of Champions-Speech & Debate
URL;VALUE=URI:https://www.lpssonline.com/schools/southside/calendar/8800608
 /lhssl-tournament-of-champions-speech-debate
DTSTART:20260328T130000Z
DTEND:20260329T020000Z
END:VEVENT
END:VCALENDAR
