BEGIN:VCALENDAR
VERSION:2.0
PRODID:SchoolNow
CALSCALE:GREGORIAN
BEGIN:VEVENT
UID:dddc12dc-cf08-11f0-9ee5-0a58a9feac02
DTSTAMP:20260423T154543Z
SUMMARY:Cheer Tryouts
URL;VALUE=URI:https://www.lpssonline.com/schools/southside/calendar/8815009
 /cheer-tryouts
DTSTART:20260311T220000Z
DTEND:20260312T003000Z
END:VEVENT
END:VCALENDAR
