BEGIN:VCALENDAR
VERSION:2.0
PRODID:SchoolNow
CALSCALE:GREGORIAN
BEGIN:VEVENT
UID:dddc1d04-cf08-11f0-b8fb-0a58a9feac02
DTSTAMP:20260423T154543Z
SUMMARY:Cheer Tryouts
URL;VALUE=URI:https://www.lpssonline.com/schools/southside/calendar/8815010
 /cheer-tryouts
DTSTART:20260313T220000Z
DTEND:20260314T003000Z
END:VEVENT
END:VCALENDAR
